BEGIN:VCALENDAR
VERSION:2.0
PRODID:-//A&amp;B Accounting and Tax Services - ECPv6.15.20//NONSGML v1.0//EN
CALSCALE:GREGORIAN
METHOD:PUBLISH
X-WR-CALNAME:A&amp;B Accounting and Tax Services
X-ORIGINAL-URL:https://abaccountingcpa.com
X-WR-CALDESC:Events for A&amp;B Accounting and Tax Services
REFRESH-INTERVAL;VALUE=DURATION:PT1H
X-Robots-Tag:noindex
X-PUBLISHED-TTL:PT1H
BEGIN:VTIMEZONE
TZID:UTC
BEGIN:STANDARD
TZOFFSETFROM:+0000
TZOFFSETTO:+0000
TZNAME:UTC
DTSTART:20250101T000000
END:STANDARD
END:VTIMEZONE
BEGIN:VEVENT
DTSTART;VALUE=DATE:20260420
DTEND;VALUE=DATE:20260421
DTSTAMP:20260419T123256
CREATED:20251218T173154Z
LAST-MODIFIED:20251218T173227Z
UID:253612-1776643200-1776729599@abaccountingcpa.com
SUMMARY:Monthly Sales Tax Returns Due
DESCRIPTION:
URL:https://abaccountingcpa.com/event/monthly-sales-tax-returns-due-30/
END:VEVENT
BEGIN:VEVENT
DTSTART;VALUE=DATE:20260420
DTEND;VALUE=DATE:20260421
DTSTAMP:20260419T123256
CREATED:20260107T194904Z
LAST-MODIFIED:20260107T194904Z
UID:253715-1776643200-1776729599@abaccountingcpa.com
SUMMARY:Quarterly Sales Tax Returns Due
DESCRIPTION:
URL:https://abaccountingcpa.com/event/quarterly-sales-tax-returns-due-11/
END:VEVENT
BEGIN:VEVENT
DTSTART;VALUE=DATE:20260430
DTEND;VALUE=DATE:20260501
DTSTAMP:20260419T123256
CREATED:20260107T194943Z
LAST-MODIFIED:20260107T195017Z
UID:253717-1777507200-1777593599@abaccountingcpa.com
SUMMARY:Quarterly Payroll Reports Due (1st Quarter)
DESCRIPTION:
URL:https://abaccountingcpa.com/event/quarterly-payroll-reports-due-1st-quarter-4/
END:VEVENT
BEGIN:VEVENT
DTSTART;VALUE=DATE:20260515
DTEND;VALUE=DATE:20260516
DTSTAMP:20260419T123256
CREATED:20260107T195520Z
LAST-MODIFIED:20260107T195520Z
UID:253725-1778803200-1778889599@abaccountingcpa.com
SUMMARY:Monthly Payroll Tax Deposits Due
DESCRIPTION:
URL:https://abaccountingcpa.com/event/monthly-payroll-tax-deposits-due-31/
END:VEVENT
BEGIN:VEVENT
DTSTART;VALUE=DATE:20260520
DTEND;VALUE=DATE:20260521
DTSTAMP:20260419T123256
CREATED:20251218T173346Z
LAST-MODIFIED:20251218T173346Z
UID:253614-1779235200-1779321599@abaccountingcpa.com
SUMMARY:Monthly Sales Tax Returns Due
DESCRIPTION:
URL:https://abaccountingcpa.com/event/monthly-sales-tax-returns-due-31/
END:VEVENT
BEGIN:VEVENT
DTSTART;VALUE=DATE:20260525
DTEND;VALUE=DATE:20260526
DTSTAMP:20260419T123256
CREATED:20251218T171425Z
LAST-MODIFIED:20251218T171425Z
UID:253590-1779667200-1779753599@abaccountingcpa.com
SUMMARY:Office Closed - Holiday
DESCRIPTION:
URL:https://abaccountingcpa.com/event/office-closed-holiday-24/
END:VEVENT
BEGIN:VEVENT
DTSTART;VALUE=DATE:20260615
DTEND;VALUE=DATE:20260616
DTSTAMP:20260419T123256
CREATED:20260107T195650Z
LAST-MODIFIED:20260107T195650Z
UID:253727-1781481600-1781567999@abaccountingcpa.com
SUMMARY:Monthly Payroll Tax Deposits Due
DESCRIPTION:
URL:https://abaccountingcpa.com/event/monthly-payroll-tax-deposits-due-32/
END:VEVENT
BEGIN:VEVENT
DTSTART;VALUE=DATE:20260622
DTEND;VALUE=DATE:20260623
DTSTAMP:20260419T123256
CREATED:20251218T173449Z
LAST-MODIFIED:20251218T173449Z
UID:253616-1782086400-1782172799@abaccountingcpa.com
SUMMARY:Monthly Sales Tax Returns Due
DESCRIPTION:
URL:https://abaccountingcpa.com/event/monthly-sales-tax-returns-due-32/
END:VEVENT
BEGIN:VEVENT
DTSTART;VALUE=DATE:20260703
DTEND;VALUE=DATE:20260704
DTSTAMP:20260419T123256
CREATED:20251218T171526Z
LAST-MODIFIED:20251218T171526Z
UID:253592-1783036800-1783123199@abaccountingcpa.com
SUMMARY:Office Closed - Holiday
DESCRIPTION:
URL:https://abaccountingcpa.com/event/office-closed-holiday-25/
END:VEVENT
BEGIN:VEVENT
DTSTART;VALUE=DATE:20260715
DTEND;VALUE=DATE:20260716
DTSTAMP:20260419T123256
CREATED:20260107T195804Z
LAST-MODIFIED:20260107T195804Z
UID:253729-1784073600-1784159999@abaccountingcpa.com
SUMMARY:Monthly Payroll Tax Deposits Due
DESCRIPTION:
URL:https://abaccountingcpa.com/event/monthly-payroll-tax-deposits-due-33/
END:VEVENT
BEGIN:VEVENT
DTSTART;VALUE=DATE:20260715
DTEND;VALUE=DATE:20260716
DTSTAMP:20260419T123256
CREATED:20260107T195847Z
LAST-MODIFIED:20260107T195847Z
UID:253731-1784073600-1784159999@abaccountingcpa.com
SUMMARY:Personal - 2nd Quarter Tax Estimates Due
DESCRIPTION:
URL:https://abaccountingcpa.com/event/personal-2nd-quarter-tax-estimates-due-3/
END:VEVENT
BEGIN:VEVENT
DTSTART;VALUE=DATE:20260720
DTEND;VALUE=DATE:20260721
DTSTAMP:20260419T123256
CREATED:20251218T173527Z
LAST-MODIFIED:20251218T173527Z
UID:253618-1784505600-1784591999@abaccountingcpa.com
SUMMARY:Monthly Sales Tax Returns Due
DESCRIPTION:
URL:https://abaccountingcpa.com/event/monthly-sales-tax-returns-due-33/
END:VEVENT
BEGIN:VEVENT
DTSTART;VALUE=DATE:20260720
DTEND;VALUE=DATE:20260721
DTSTAMP:20260419T123256
CREATED:20260107T195932Z
LAST-MODIFIED:20260107T200018Z
UID:253733-1784505600-1784591999@abaccountingcpa.com
SUMMARY:Quarterly Sales Tax Returns Due
DESCRIPTION:
URL:https://abaccountingcpa.com/event/quarterly-sales-tax-returns-due-12/
END:VEVENT
BEGIN:VEVENT
DTSTART;VALUE=DATE:20260731
DTEND;VALUE=DATE:20260801
DTSTAMP:20260419T123256
CREATED:20260107T200118Z
LAST-MODIFIED:20260107T200118Z
UID:253735-1785456000-1785542399@abaccountingcpa.com
SUMMARY:Quarterly Payroll Reports Due (2nd Quarter)
DESCRIPTION:
URL:https://abaccountingcpa.com/event/quarterly-payroll-reports-due-2nd-quarter-3/
END:VEVENT
BEGIN:VEVENT
DTSTART;VALUE=DATE:20260817
DTEND;VALUE=DATE:20260818
DTSTAMP:20260419T123256
CREATED:20260107T200606Z
LAST-MODIFIED:20260107T200606Z
UID:253737-1786924800-1787011199@abaccountingcpa.com
SUMMARY:Monthly Payroll Tax Deposits Due
DESCRIPTION:
URL:https://abaccountingcpa.com/event/monthly-payroll-tax-deposits-due-34/
END:VEVENT
BEGIN:VEVENT
DTSTART;VALUE=DATE:20260820
DTEND;VALUE=DATE:20260821
DTSTAMP:20260419T123256
CREATED:20251218T173605Z
LAST-MODIFIED:20251218T173605Z
UID:253620-1787184000-1787270399@abaccountingcpa.com
SUMMARY:Monthly Sales Tax Returns Due
DESCRIPTION:
URL:https://abaccountingcpa.com/event/monthly-sales-tax-returns-due-34/
END:VEVENT
BEGIN:VEVENT
DTSTART;VALUE=DATE:20260907
DTEND;VALUE=DATE:20260908
DTSTAMP:20260419T123256
CREATED:20251218T171658Z
LAST-MODIFIED:20251218T171658Z
UID:253594-1788739200-1788825599@abaccountingcpa.com
SUMMARY:Office Closed - Holiday
DESCRIPTION:
URL:https://abaccountingcpa.com/event/office-closed-holiday-26/
END:VEVENT
BEGIN:VEVENT
DTSTART;VALUE=DATE:20260915
DTEND;VALUE=DATE:20260916
DTSTAMP:20260419T123256
CREATED:20260107T200720Z
LAST-MODIFIED:20260107T200720Z
UID:253739-1789430400-1789516799@abaccountingcpa.com
SUMMARY:Monthly Payroll Tax Deposits Due
DESCRIPTION:
URL:https://abaccountingcpa.com/event/monthly-payroll-tax-deposits-due-35/
END:VEVENT
BEGIN:VEVENT
DTSTART;VALUE=DATE:20260915
DTEND;VALUE=DATE:20260916
DTSTAMP:20260419T123256
CREATED:20260107T200843Z
LAST-MODIFIED:20260107T200843Z
UID:253741-1789430400-1789516799@abaccountingcpa.com
SUMMARY:Corporation and Personal - 3rd Quarter Tax Estimates Due
DESCRIPTION:
URL:https://abaccountingcpa.com/event/corporation-and-personal-3rd-quarter-tax-estimates-due/
END:VEVENT
BEGIN:VEVENT
DTSTART;VALUE=DATE:20260921
DTEND;VALUE=DATE:20260922
DTSTAMP:20260419T123256
CREATED:20251218T175455Z
LAST-MODIFIED:20251218T175455Z
UID:253622-1789948800-1790035199@abaccountingcpa.com
SUMMARY:Monthly Sales Tax Returns Due
DESCRIPTION:
URL:https://abaccountingcpa.com/event/monthly-sales-tax-returns-due-35/
END:VEVENT
BEGIN:VEVENT
DTSTART;VALUE=DATE:20261015
DTEND;VALUE=DATE:20261016
DTSTAMP:20260419T123256
CREATED:20260107T201025Z
LAST-MODIFIED:20260107T201025Z
UID:253743-1792022400-1792108799@abaccountingcpa.com
SUMMARY:Monthly Payroll Tax Deposits Due
DESCRIPTION:
URL:https://abaccountingcpa.com/event/monthly-payroll-tax-deposits-due-36/
END:VEVENT
BEGIN:VEVENT
DTSTART;VALUE=DATE:20261015
DTEND;VALUE=DATE:20261016
DTSTAMP:20260419T123256
CREATED:20260107T201117Z
LAST-MODIFIED:20260107T201117Z
UID:253745-1792022400-1792108799@abaccountingcpa.com
SUMMARY:Personal Income Tax Returns on Extension Due
DESCRIPTION:
URL:https://abaccountingcpa.com/event/personal-income-tax-returns-on-extension-due/
END:VEVENT
BEGIN:VEVENT
DTSTART;VALUE=DATE:20261020
DTEND;VALUE=DATE:20261021
DTSTAMP:20260419T123256
CREATED:20251218T175616Z
LAST-MODIFIED:20251218T175616Z
UID:253624-1792454400-1792540799@abaccountingcpa.com
SUMMARY:Monthly Sales Tax Returns Due
DESCRIPTION:
URL:https://abaccountingcpa.com/event/monthly-sales-tax-returns-due-36/
END:VEVENT
BEGIN:VEVENT
DTSTART;VALUE=DATE:20261020
DTEND;VALUE=DATE:20261021
DTSTAMP:20260419T123256
CREATED:20260107T201159Z
LAST-MODIFIED:20260107T201159Z
UID:253747-1792454400-1792540799@abaccountingcpa.com
SUMMARY:Quarterly Sales Tax Returns Due
DESCRIPTION:
URL:https://abaccountingcpa.com/event/quarterly-sales-tax-returns-due-13/
END:VEVENT
BEGIN:VEVENT
DTSTART;VALUE=DATE:20261102
DTEND;VALUE=DATE:20261103
DTSTAMP:20260419T123256
CREATED:20260107T201310Z
LAST-MODIFIED:20260107T201310Z
UID:253749-1793577600-1793663999@abaccountingcpa.com
SUMMARY:Quarterly Payroll Reports Due (3rd Quarter)
DESCRIPTION:
URL:https://abaccountingcpa.com/event/quarterly-payroll-reports-due-3rd-quarter-4/
END:VEVENT
BEGIN:VEVENT
DTSTART;VALUE=DATE:20261116
DTEND;VALUE=DATE:20261117
DTSTAMP:20260419T123256
CREATED:20260107T201421Z
LAST-MODIFIED:20260107T201421Z
UID:253751-1794787200-1794873599@abaccountingcpa.com
SUMMARY:Monthly Payroll Tax Deposits Due
DESCRIPTION:
URL:https://abaccountingcpa.com/event/monthly-payroll-tax-deposits-due-37/
END:VEVENT
BEGIN:VEVENT
DTSTART;VALUE=DATE:20261120
DTEND;VALUE=DATE:20261121
DTSTAMP:20260419T123256
CREATED:20251218T175709Z
LAST-MODIFIED:20251218T175709Z
UID:253626-1795132800-1795219199@abaccountingcpa.com
SUMMARY:Monthly Sales Tax Returns Due
DESCRIPTION:
URL:https://abaccountingcpa.com/event/monthly-sales-tax-returns-due-37/
END:VEVENT
BEGIN:VEVENT
DTSTART;VALUE=DATE:20261127
DTEND;VALUE=DATE:20261128
DTSTAMP:20260419T123256
CREATED:20251218T171811Z
LAST-MODIFIED:20251218T171811Z
UID:253596-1795737600-1795823999@abaccountingcpa.com
SUMMARY:Office Closed - Holiday
DESCRIPTION:
URL:https://abaccountingcpa.com/event/office-closed-holiday-27/
END:VEVENT
BEGIN:VEVENT
DTSTART;VALUE=DATE:20261215
DTEND;VALUE=DATE:20261216
DTSTAMP:20260419T123256
CREATED:20260107T201514Z
LAST-MODIFIED:20260107T201514Z
UID:253753-1797292800-1797379199@abaccountingcpa.com
SUMMARY:Monthly Payroll Tax Deposits Due
DESCRIPTION:
URL:https://abaccountingcpa.com/event/monthly-payroll-tax-deposits-due-38/
END:VEVENT
BEGIN:VEVENT
DTSTART;VALUE=DATE:20261215
DTEND;VALUE=DATE:20261216
DTSTAMP:20260419T123256
CREATED:20260107T201618Z
LAST-MODIFIED:20260107T201618Z
UID:253755-1797292800-1797379199@abaccountingcpa.com
SUMMARY:Corporation - 4th Quarter Tax Estimates Due
DESCRIPTION:
URL:https://abaccountingcpa.com/event/corporation-4th-quarter-tax-estimates-due-4/
END:VEVENT
END:VCALENDAR